BEGIN:VCALENDAR
VERSION:2.0
PRODID:-//Berkeley Baptist Church - ECPv6.15.20//NONSGML v1.0//EN
CALSCALE:GREGORIAN
METHOD:PUBLISH
X-WR-CALNAME:Berkeley Baptist Church
X-ORIGINAL-URL:https://berkeleybaptist.org
X-WR-CALDESC:Events for Berkeley Baptist Church
REFRESH-INTERVAL;VALUE=DURATION:PT1H
X-Robots-Tag:noindex
X-PUBLISHED-TTL:PT1H
BEGIN:VTIMEZONE
TZID:America/New_York
BEGIN:DAYLIGHT
TZOFFSETFROM:-0500
TZOFFSETTO:-0400
TZNAME:EDT
DTSTART:20250309T070000
END:DAYLIGHT
BEGIN:STANDARD
TZOFFSETFROM:-0400
TZOFFSETTO:-0500
TZNAME:EST
DTSTART:20251102T060000
END:STANDARD
BEGIN:DAYLIGHT
TZOFFSETFROM:-0500
TZOFFSETTO:-0400
TZNAME:EDT
DTSTART:20260308T070000
END:DAYLIGHT
BEGIN:STANDARD
TZOFFSETFROM:-0400
TZOFFSETTO:-0500
TZNAME:EST
DTSTART:20261101T060000
END:STANDARD
BEGIN:DAYLIGHT
TZOFFSETFROM:-0500
TZOFFSETTO:-0400
TZNAME:EDT
DTSTART:20270314T070000
END:DAYLIGHT
BEGIN:STANDARD
TZOFFSETFROM:-0400
TZOFFSETTO:-0500
TZNAME:EST
DTSTART:20271107T060000
END:STANDARD
END:VTIMEZONE
BEGIN:VEVENT
DTSTART;VALUE=DATE:20260405
DTEND;VALUE=DATE:20260406
DTSTAMP:20260419T002449
CREATED:20260401T024026Z
LAST-MODIFIED:20260401T024026Z
UID:8188-1775347200-1775433599@berkeleybaptist.org
SUMMARY:Easter Sunday
DESCRIPTION:Easter
URL:https://berkeleybaptist.org/event/easter-sunday-5/
LOCATION:Berkeley Baptist Church
CATEGORIES:Community,Worship
ATTACH;FMTTYPE=image/jpeg:https://berkeleybaptist.org/wp-content/uploads/2024/02/easter-scaled-kDJREt.tmp_.jpg
END:VEVENT
BEGIN:VEVENT
DTSTART;VALUE=DATE:20260405
DTEND;VALUE=DATE:20260406
DTSTAMP:20260419T002449
CREATED:20260401T024028Z
LAST-MODIFIED:20260401T024028Z
UID:8189-1775347200-1775433599@berkeleybaptist.org
SUMMARY:Sunrise Service
DESCRIPTION:Sunrise Service
URL:https://berkeleybaptist.org/event/sunrise-service-4/
LOCATION:Berkeley Baptist Church
CATEGORIES:Community,Worship
ATTACH;FMTTYPE=image/jpeg:https://berkeleybaptist.org/wp-content/uploads/2022/12/berkworshipicon.jpg
END:VEVENT
BEGIN:VEVENT
DTSTART;TZID=America/New_York:20260405T103000
DTEND;TZID=America/New_York:20260405T113000
DTSTAMP:20260419T002449
CREATED:20260401T023950Z
LAST-MODIFIED:20260401T023950Z
UID:8175-1775385000-1775388600@berkeleybaptist.org
SUMMARY:Worship Service
DESCRIPTION:Worship Service
URL:https://berkeleybaptist.org/event/worship-service-162/
LOCATION:Berkeley Baptist Church
CATEGORIES:Community,Worship
ATTACH;FMTTYPE=image/jpeg:https://berkeleybaptist.org/wp-content/uploads/2022/12/berkworshipicon.jpg
END:VEVENT
END:VCALENDAR