BEGIN:VCALENDAR
VERSION:2.0
PRODID:-//Berkeley Baptist Church - ECPv6.15.20//NONSGML v1.0//EN
CALSCALE:GREGORIAN
METHOD:PUBLISH
X-WR-CALNAME:Berkeley Baptist Church
X-ORIGINAL-URL:https://berkeleybaptist.org
X-WR-CALDESC:Events for Berkeley Baptist Church
REFRESH-INTERVAL;VALUE=DURATION:PT1H
X-Robots-Tag:noindex
X-PUBLISHED-TTL:PT1H
BEGIN:VTIMEZONE
TZID:America/New_York
BEGIN:DAYLIGHT
TZOFFSETFROM:-0500
TZOFFSETTO:-0400
TZNAME:EDT
DTSTART:20250309T070000
END:DAYLIGHT
BEGIN:STANDARD
TZOFFSETFROM:-0400
TZOFFSETTO:-0500
TZNAME:EST
DTSTART:20251102T060000
END:STANDARD
BEGIN:DAYLIGHT
TZOFFSETFROM:-0500
TZOFFSETTO:-0400
TZNAME:EDT
DTSTART:20260308T070000
END:DAYLIGHT
BEGIN:STANDARD
TZOFFSETFROM:-0400
TZOFFSETTO:-0500
TZNAME:EST
DTSTART:20261101T060000
END:STANDARD
BEGIN:DAYLIGHT
TZOFFSETFROM:-0500
TZOFFSETTO:-0400
TZNAME:EDT
DTSTART:20270314T070000
END:DAYLIGHT
BEGIN:STANDARD
TZOFFSETFROM:-0400
TZOFFSETTO:-0500
TZNAME:EST
DTSTART:20271107T060000
END:STANDARD
END:VTIMEZONE
BEGIN:VEVENT
DTSTART;TZID=America/New_York:20260408T180000
DTEND;TZID=America/New_York:20260408T190000
DTSTAMP:20260419T151753
CREATED:20260401T023958Z
LAST-MODIFIED:20260401T023958Z
UID:8179-1775671200-1775674800@berkeleybaptist.org
SUMMARY:Adult Bible Study
DESCRIPTION:Adult Bible Study
URL:https://berkeleybaptist.org/event/adult-bible-study-114/
LOCATION:Berkeley Baptist Church
CATEGORIES:Bible Study,Community
ATTACH;FMTTYPE=image/jpeg:https://berkeleybaptist.org/wp-content/uploads/2022/12/berkbibleiconcal.jpg
END:VEVENT
BEGIN:VEVENT
DTSTART;TZID=America/New_York:20260407T100000
DTEND;TZID=America/New_York:20260407T110000
DTSTAMP:20260419T151753
CREATED:20260401T024010Z
LAST-MODIFIED:20260401T024010Z
UID:8183-1775556000-1775559600@berkeleybaptist.org
SUMMARY:Ladies' Prayer Group
DESCRIPTION:Women’s Prayer Group
URL:https://berkeleybaptist.org/event/ladies-prayer-group-104/
LOCATION:Berkeley Baptist Church
CATEGORIES:Community,Women
ATTACH;FMTTYPE=image/jpeg:https://berkeleybaptist.org/wp-content/uploads/2023/02/prayer-1308663_1920.jpg
END:VEVENT
BEGIN:VEVENT
DTSTART;TZID=America/New_York:20260405T103000
DTEND;TZID=America/New_York:20260405T113000
DTSTAMP:20260419T151753
CREATED:20260401T023950Z
LAST-MODIFIED:20260401T023950Z
UID:8175-1775385000-1775388600@berkeleybaptist.org
SUMMARY:Worship Service
DESCRIPTION:Worship Service
URL:https://berkeleybaptist.org/event/worship-service-162/
LOCATION:Berkeley Baptist Church
CATEGORIES:Community,Worship
ATTACH;FMTTYPE=image/jpeg:https://berkeleybaptist.org/wp-content/uploads/2022/12/berkworshipicon.jpg
END:VEVENT
BEGIN:VEVENT
DTSTART;VALUE=DATE:20260405
DTEND;VALUE=DATE:20260406
DTSTAMP:20260419T151753
CREATED:20260401T024028Z
LAST-MODIFIED:20260401T024028Z
UID:8189-1775347200-1775433599@berkeleybaptist.org
SUMMARY:Sunrise Service
DESCRIPTION:Sunrise Service
URL:https://berkeleybaptist.org/event/sunrise-service-4/
LOCATION:Berkeley Baptist Church
CATEGORIES:Community,Worship
ATTACH;FMTTYPE=image/jpeg:https://berkeleybaptist.org/wp-content/uploads/2022/12/berkworshipicon.jpg
END:VEVENT
BEGIN:VEVENT
DTSTART;VALUE=DATE:20260405
DTEND;VALUE=DATE:20260406
DTSTAMP:20260419T151753
CREATED:20260401T024026Z
LAST-MODIFIED:20260401T024026Z
UID:8188-1775347200-1775433599@berkeleybaptist.org
SUMMARY:Easter Sunday
DESCRIPTION:Easter
URL:https://berkeleybaptist.org/event/easter-sunday-5/
LOCATION:Berkeley Baptist Church
CATEGORIES:Community,Worship
ATTACH;FMTTYPE=image/jpeg:https://berkeleybaptist.org/wp-content/uploads/2024/02/easter-scaled-kDJREt.tmp_.jpg
END:VEVENT
BEGIN:VEVENT
DTSTART;VALUE=DATE:20260403
DTEND;VALUE=DATE:20260404
DTSTAMP:20260419T151753
CREATED:20260401T024221Z
LAST-MODIFIED:20260401T024221Z
UID:8190-1775174400-1775260799@berkeleybaptist.org
SUMMARY:Good Friday
DESCRIPTION:Good Friday
URL:https://berkeleybaptist.org/event/good-friday-3/
LOCATION:Berkeley Baptist Church
CATEGORIES:Community,Worship
ATTACH;FMTTYPE=image/jpeg:https://berkeleybaptist.org/wp-content/uploads/2024/02/good-friday-scaled-Hlz2Gy.tmp_.jpg
END:VEVENT
BEGIN:VEVENT
DTSTART;TZID=America/New_York:20260331T100000
DTEND;TZID=America/New_York:20260331T110000
DTSTAMP:20260419T151753
CREATED:20260302T040322Z
LAST-MODIFIED:20260302T040322Z
UID:8150-1774951200-1774954800@berkeleybaptist.org
SUMMARY:Ladies' Prayer Group
DESCRIPTION:Women’s Prayer Group
URL:https://berkeleybaptist.org/event/ladies-prayer-group-103/
LOCATION:Berkeley Baptist Church
CATEGORIES:Community,Women
ATTACH;FMTTYPE=image/jpeg:https://berkeleybaptist.org/wp-content/uploads/2023/02/prayer-1308663_1920.jpg
END:VEVENT
BEGIN:VEVENT
DTSTART;TZID=America/New_York:20260329T103000
DTEND;TZID=America/New_York:20260329T113000
DTSTAMP:20260419T151753
CREATED:20260302T040311Z
LAST-MODIFIED:20260302T040311Z
UID:8145-1774780200-1774783800@berkeleybaptist.org
SUMMARY:Worship Service
DESCRIPTION:Worship Service
URL:https://berkeleybaptist.org/event/worship-service-161/
LOCATION:Berkeley Baptist Church
CATEGORIES:Community,Worship
ATTACH;FMTTYPE=image/jpeg:https://berkeleybaptist.org/wp-content/uploads/2022/12/berkworshipicon.jpg
END:VEVENT
BEGIN:VEVENT
DTSTART;TZID=America/New_York:20260325T180000
DTEND;TZID=America/New_York:20260325T190000
DTSTAMP:20260419T151753
CREATED:20260302T040336Z
LAST-MODIFIED:20260302T040336Z
UID:8154-1774461600-1774465200@berkeleybaptist.org
SUMMARY:Adult Bible Study
DESCRIPTION:Adult Bible Study
URL:https://berkeleybaptist.org/event/adult-bible-study-113/
LOCATION:Berkeley Baptist Church
CATEGORIES:Bible Study,Community
ATTACH;FMTTYPE=image/jpeg:https://berkeleybaptist.org/wp-content/uploads/2022/12/berkbibleiconcal.jpg
END:VEVENT
BEGIN:VEVENT
DTSTART;TZID=America/New_York:20260324T100000
DTEND;TZID=America/New_York:20260324T110000
DTSTAMP:20260419T151753
CREATED:20260302T040321Z
LAST-MODIFIED:20260302T040321Z
UID:8149-1774346400-1774350000@berkeleybaptist.org
SUMMARY:Ladies' Prayer Group
DESCRIPTION:Women’s Prayer Group
URL:https://berkeleybaptist.org/event/ladies-prayer-group-102/
LOCATION:Berkeley Baptist Church
CATEGORIES:Community,Women
ATTACH;FMTTYPE=image/jpeg:https://berkeleybaptist.org/wp-content/uploads/2023/02/prayer-1308663_1920.jpg
END:VEVENT
BEGIN:VEVENT
DTSTART;TZID=America/New_York:20260322T103000
DTEND;TZID=America/New_York:20260322T113000
DTSTAMP:20260419T151753
CREATED:20260302T040309Z
LAST-MODIFIED:20260302T040309Z
UID:8144-1774175400-1774179000@berkeleybaptist.org
SUMMARY:Worship Service
DESCRIPTION:Worship Service
URL:https://berkeleybaptist.org/event/worship-service-160/
LOCATION:Berkeley Baptist Church
CATEGORIES:Community,Worship
ATTACH;FMTTYPE=image/jpeg:https://berkeleybaptist.org/wp-content/uploads/2022/12/berkworshipicon.jpg
END:VEVENT
BEGIN:VEVENT
DTSTART;TZID=America/New_York:20260319T180000
DTEND;TZID=America/New_York:20260319T200000
DTSTAMP:20260419T151753
CREATED:20250902T113840Z
LAST-MODIFIED:20260306T133613Z
UID:7861-1773943200-1773950400@berkeleybaptist.org
SUMMARY:CLM Dinner Devotion
DESCRIPTION:CLM Devotion/Meal
URL:https://berkeleybaptist.org/event/clm-dinner-devotion-15/
LOCATION:Berkeley Baptist Church
CATEGORIES:Community
ATTACH;FMTTYPE=image/jpeg:https://berkeleybaptist.org/wp-content/uploads/2022/12/berkscrevenmeal.jpg
END:VEVENT
END:VCALENDAR